BEGIN:VCALENDAR
VERSION:2.0
PRODID:-//wp-events-plugin.com//7.2.3.1//EN
TZID:America/New_York
X-WR-TIMEZONE:America/New_York
BEGIN:VEVENT
UID:240@bensonvermont.gov
DTSTART:20260228T100000Z
DTEND:20260228T150000Z
DTSTAMP:20251228T175649Z
URL:https://www.bensonvermont.gov/events/annual-town-meeting-floor-votes/
SUMMARY:Annual Town Meeting & Floor Votes
DESCRIPTION:Town Meeting starts at 10 a.m. to .... ?\n\nAnnual Town Meeting
 Warning | Agenda
CATEGORIES:Community
LOCATION:Community Hall\, 2724 Stage Road\, Benson\, Vermont\, 05743\,
 United States
X-APPLE-STRUCTURED-LOCATION;VALUE=URI;X-ADDRESS=2724 Stage Road\, Benson\,
 Vermont\, 05743\, United States;X-APPLE-RADIUS=100;X-TITLE=Community
 Hall:geo:0,0
END:VEVENT
END:VCALENDAR