BEGIN:VCALENDAR
VERSION:2.0
PRODID:-//wp-events-plugin.com//7.2.3.1//EN
TZID:America/New_York
X-WR-TIMEZONE:America/New_York
BEGIN:VEVENT
UID:241@bensonvermont.gov
DTSTART:20260303T100000Z
DTEND:20260303T190000Z
DTSTAMP:20251228T180156Z
URL:https://www.bensonvermont.gov/events/annual-town-voting-by-australian-
 ballot/
SUMMARY:Annual Town Voting by Australian Ballot
DESCRIPTION:Australian Ballot Voting from 10 a.m. to 7 p.m. (Town meeting
 was held on February 28th\, this is ballot voting only)
CATEGORIES:Community
LOCATION:Community Hall\, 2724 Stage Road\, Benson\, Vermont\, 05743\,
 United States
X-APPLE-STRUCTURED-LOCATION;VALUE=URI;X-ADDRESS=2724 Stage Road\, Benson\,
 Vermont\, 05743\, United States;X-APPLE-RADIUS=100;X-TITLE=Community
 Hall:geo:0,0
END:VEVENT
END:VCALENDAR