BEGIN:VCALENDAR
VERSION:2.0
PRODID:-//wp-events-plugin.com//7.2.3.1//EN
TZID:America/New_York
X-WR-TIMEZONE:America/New_York
BEGIN:VEVENT
UID:188@bensonvermont.gov
DTSTART:20250810T100000Z
DTEND:20250810T160000Z
DTSTAMP:20250415T140724Z
URL:https://www.bensonvermont.gov/events/benson-burdock-festival-family-da
 y-3/
SUMMARY:Benson Burdock Festival & Family Day 2025: WILD\, WILD WEST!
DESCRIPTION:[caption id="attachment_6785" align="alignnone" width="250"]
 Benson Burdock Festival &amp\; Family Day[/caption]\nA yearly event
 celebrating the people of Benson and the burdock plant. Includes the annual
 Burdock Festival Parade – where every year features a new theme\, but the
 burdock reigns supreme! The theme for 2025 is: Wild\, Wild West! Please
 note the date has been changed to the 2nd Sunday of August.\n[gallery
 columns="4" link="none" size="medium" ids="6921\,6924\,6925\,6927"]
CATEGORIES:Community,Townwide Events
LOCATION:Community Hall\, 2724 Stage Road\, Benson\, Vermont\, 05743\,
 United States
X-APPLE-STRUCTURED-LOCATION;VALUE=URI;X-ADDRESS=2724 Stage Road\, Benson\,
 Vermont\, 05743\, United States;X-APPLE-RADIUS=100;X-TITLE=Community
 Hall:geo:0,0
END:VEVENT
END:VCALENDAR