BEGIN:VCALENDAR
VERSION:2.0
PRODID:-//wp-events-plugin.com//7.2.3.1//EN
TZID:America/New_York
X-WR-TIMEZONE:America/New_York
BEGIN:VEVENT
UID:35@bensonvermont.gov
DTSTART:20230422T110000Z
DTEND:20230422T140000Z
DTSTAMP:20230419T172106Z
URL:https://www.bensonvermont.gov/events/paint-sip-to-benefit-family-day-2
 /
SUMMARY:Paint & Sip (to benefit Family Day)
DESCRIPTION:\nBenson Family Day Fundraiser\n\n\n\nCLICK HERE TO REGISTER @
 Peace of My Art Studio\n\n\n\n3 hrs | $30\nApril 22\, 2023\, 11:00
 AM\n\nDesign and paint your own Pirate Flag &amp\; enter our annual
 contest. Prize package details will be announced soon! Contest rules: All
 paintings will remain at the studio until they are displayed at the
 Festival and judged by the public. Absolutely no photos of your painting
 are allowed. We will supply all material and assistance in printing image
 transfers or traceables so you won’t have to do any complicated drawing.
 No advice or help will be given as far as color and design. We will begin
 at 7pm and you will have no more than three hours to complete your
 painting.\n
CATEGORIES:Community
END:VEVENT
END:VCALENDAR