BEGIN:VCALENDAR
VERSION:2.0
PRODID:-//wp-events-plugin.com//7.2.3.1//EN
TZID:America/New_York
X-WR-TIMEZONE:America/New_York
BEGIN:VEVENT
UID:156@bensonvermont.gov
DTSTART:20241202T180000Z
DTEND:20241202T193000Z
DTSTAMP:20241127T125012Z
URL:https://www.bensonvermont.gov/events/select-board-special-budget-meeti
 ng/
SUMMARY:Select Board SPECIAL (Budget) Meeting
DESCRIPTION:AGENDA 120224
CATEGORIES:Board Meetings
LOCATION:Town Office\, 2760 Stage Road\, Benson\, Vermont\, 05743\, United
 States
X-APPLE-STRUCTURED-LOCATION;VALUE=URI;X-ADDRESS=2760 Stage Road\, Benson\,
 Vermont\, 05743\, United States;X-APPLE-RADIUS=100;X-TITLE=Town
 Office:geo:0,0
END:VEVENT
END:VCALENDAR