BEGIN:VCALENDAR
VERSION:2.0
PRODID:-//wp-events-plugin.com//7.2.3.1//EN
TZID:America/New_York
X-WR-TIMEZONE:America/New_York
BEGIN:VEVENT
UID:37@bensonvermont.gov
DTSTART:20230527T100000Z
DTEND:20230527T120000Z
DTSTAMP:20230427T183817Z
URL:https://www.bensonvermont.gov/events/special-town-meeting/
SUMMARY:Special Town Meeting
DESCRIPTION:Please read the warning (provided link below).\n\nThe Special
 Town Meeting will be held May 27\, 2023 at 10:00 a.m. at the Community
 Hall.\n\nWARNING 052723
CATEGORIES:Board Meetings,Community
LOCATION:Community Hall\, 2724 Stage Road\, Benson\, Vermont\, 05743\,
 United States
X-APPLE-STRUCTURED-LOCATION;VALUE=URI;X-ADDRESS=2724 Stage Road\, Benson\,
 Vermont\, 05743\, United States;X-APPLE-RADIUS=100;X-TITLE=Community
 Hall:geo:0,0
END:VEVENT
END:VCALENDAR