BEGIN:VCALENDAR
VERSION:2.0
PRODID:-//wp-events-plugin.com//7.2.3.1//EN
TZID:America/New_York
X-WR-TIMEZONE:America/New_York
BEGIN:VEVENT
UID:210@bensonvermont.gov
DTSTART:20250828T140000Z
DTEND:20250828T170000Z
DTSTAMP:20250731T201926Z
URL:https://www.bensonvermont.gov/events/thursday-aug-28th-free-efficiency
 -vermont-picnic-at-west-coast-tacos/
SUMMARY:Thursday Aug 28th Free Efficiency Vermont Picnic at West Coast
 Tacos
DESCRIPTION:On Thursday August 28th\, Efficiency Vermont will be providing
 a free picnic at West Coast Tacos 2.0 from 2 pm to 5 pm. They will be
 handing out brochures and answering questions about their services for
 Benson residents. There will be free food and also a pig is being roasted!
 Benson residents are welcome to stop by and learn about Efficiency Vermont
 and how they may be able to help you with your energy consumption.
END:VEVENT
END:VCALENDAR