BEGIN:VCALENDAR
VERSION:2.0
PRODID:-//wp-events-plugin.com//7.2.3.1//EN
TZID:America/New_York
X-WR-TIMEZONE:America/New_York
BEGIN:VEVENT
UID:21@bensonvermont.gov
DTSTART:20230521T100000Z
DTEND:20230521T140000Z
DTSTAMP:20230209T204811Z
URL:https://www.bensonvermont.gov/events/touch-a-truck-to-benefit-family-d
 ay/
SUMMARY:Touch-A-Truck (to benefit Family Day)
DESCRIPTION:Touch-A-Truck event at the Benson Village School. Proceeds
 benefit Family Day.\nJoin us for a family friendly event! Kids of all ages
 can climb on and interact with:\n• Fire Trucks • Military Vehicle •
 Big Rigs • Construction Vehicles • and More!\n\nPrice: $5.00 per person
 (5 &amp\; under free) or $10.00 per carload to benefit Benson Family
 Day.\n\n\n*Some vehicles will be available only to be viewed.\n(Horn free
 time for those with sensitive ears from 10-11 am)\nRain date is June 4\,
 2023.\n\n\n\nIf you are interested in displaying a vehicle\, we would love
 to have you join us!\n\n
CATEGORIES:Community,Townwide Events
END:VEVENT
END:VCALENDAR