BEGIN:VCALENDAR
VERSION:2.0
PRODID:-//wp-events-plugin.com//7.2.3.1//EN
TZID:America/New_York
X-WR-TIMEZONE:America/New_York
BEGIN:VEVENT
UID:224@bensonvermont.gov
DTSTART;VALUE=DATE:20251224
DTEND;VALUE=DATE:20251225
DTSTAMP:20251228T162259Z
URL:https://www.bensonvermont.gov/events/town-offices-closed-for-holidays/
SUMMARY:Town Offices Closed for Holidays
DESCRIPTION:In observance of Christmas and New Years.
CATEGORIES:Community,Town Clerk Reminders
LOCATION:Town Office\, 2760 Stage Road\, Benson\, Vermont\, 05743\, United
 States
X-APPLE-STRUCTURED-LOCATION;VALUE=URI;X-ADDRESS=2760 Stage Road\, Benson\,
 Vermont\, 05743\, United States;X-APPLE-RADIUS=100;X-TITLE=Town
 Office:geo:0,0
END:VEVENT
END:VCALENDAR