BEGIN:VCALENDAR
VERSION:2.0
PRODID:-//wp-events-plugin.com//7.2.3.1//EN
TZID:America/New_York
X-WR-TIMEZONE:America/New_York
BEGIN:VEVENT
UID:263@bensonvermont.gov
DTSTART:20260525T000000Z
DTEND:20260525T000000Z
DTSTAMP:20260413T223612Z
URL:https://www.bensonvermont.gov/events/town-offices-closed-for-memorial-
 day/
SUMMARY:Town Offices Closed for Memorial Day
DESCRIPTION:Town Offices will be closed in observance of Memorial Day.
CATEGORIES:Community,Townwide Events
END:VEVENT
END:VCALENDAR