BEGIN:VCALENDAR
VERSION:2.0
PRODID:-//wp-events-plugin.com//7.2.3.1//EN
TZID:America/New_York
X-WR-TIMEZONE:America/New_York
BEGIN:VEVENT
UID:222@bensonvermont.gov
DTSTART;VALUE=DATE:20251006
DTEND;VALUE=DATE:20251007
DTSTAMP:20251001T201607Z
URL:https://www.bensonvermont.gov/events/town-offices-community-hall-close
 d/
SUMMARY:Town Offices & Community Hall Closed
DESCRIPTION:There will be no access to the Community Hall and the Town
 office on\nMonday\, October 6\, 2025 for a blower test.
CATEGORIES:Community,Town Clerk Reminders
LOCATION:Town Office\, 2760 Stage Road\, Benson\, Vermont\, 05743\, United
 States
X-APPLE-STRUCTURED-LOCATION;VALUE=URI;X-ADDRESS=2760 Stage Road\, Benson\,
 Vermont\, 05743\, United States;X-APPLE-RADIUS=100;X-TITLE=Town
 Office:geo:0,0
END:VEVENT
END:VCALENDAR